BEGIN:VCALENDAR
VERSION:2.0
PRODID:-//eventiolisticimaremma.com - ECPv6.15.14//NONSGML v1.0//EN
CALSCALE:GREGORIAN
METHOD:PUBLISH
X-WR-CALNAME:eventiolisticimaremma.com
X-ORIGINAL-URL:https://eventiolisticimaremma.com
X-WR-CALDESC:Eventi per eventiolisticimaremma.com
REFRESH-INTERVAL;VALUE=DURATION:PT1H
X-Robots-Tag:noindex
X-PUBLISHED-TTL:PT1H
BEGIN:VTIMEZONE
TZID:UTC
BEGIN:STANDARD
TZOFFSETFROM:+0000
TZOFFSETTO:+0000
TZNAME:UTC
DTSTART:20250101T000000
END:STANDARD
END:VTIMEZONE
BEGIN:VEVENT
DTSTART;TZID=UTC:20260425T080000
DTEND;TZID=UTC:20260426T170000
DTSTAMP:20260421T141744
CREATED:20260421T094428Z
LAST-MODIFIED:20260421T094428Z
UID:1624-1777104000-1777222800@eventiolisticimaremma.com
SUMMARY:La Via delle Erbe
DESCRIPTION:Raduno Nazionale di Erboristeria\n25 e 26 Aprile\nBlera (VT) \nUn raduno di professioniste e professionisti del mondo delle erbe uniti dalla passione per l’arte erboristica\, che condivideranno conoscenze\, pratiche e tradizioni legate alle piante officinali\, attraverso interventi\, escursioni e laboratori pratici. \nUn’occasione per divulgare l’arte erboristica\, favorire la creazione di reti ed esperienze significative di relazione\, conoscenza e scoperta del territorio nell’ottica della cura e dell’ecologia profonda. \nPer info e prenotazioni:\ntel 3384476764 \nwww.tempocreativo.altervista.org \n \n \nCon il patrocinio gratuito del Comune di Blera
URL:https://eventiolisticimaremma.com/event/la-via-delle-erbe/
LOCATION:Blera
CATEGORIES:Incontri
ATTACH;FMTTYPE=image/jpeg:https://eventiolisticimaremma.com/wp-content/uploads/2026/04/la-via-delle-erbe.jpg
END:VEVENT
END:VCALENDAR