BEGIN:VCALENDAR
VERSION:2.0
PRODID:-//eventiolisticimaremma.com - ECPv6.15.14//NONSGML v1.0//EN
CALSCALE:GREGORIAN
METHOD:PUBLISH
X-WR-CALNAME:eventiolisticimaremma.com
X-ORIGINAL-URL:https://eventiolisticimaremma.com
X-WR-CALDESC:Eventi per eventiolisticimaremma.com
REFRESH-INTERVAL;VALUE=DURATION:PT1H
X-Robots-Tag:noindex
X-PUBLISHED-TTL:PT1H
BEGIN:VTIMEZONE
TZID:UTC
BEGIN:STANDARD
TZOFFSETFROM:+0000
TZOFFSETTO:+0000
TZNAME:UTC
DTSTART:20250101T000000
END:STANDARD
END:VTIMEZONE
BEGIN:VEVENT
DTSTART;TZID=UTC:20260523T100000
DTEND;TZID=UTC:20260523T170000
DTSTAMP:20260421T153018
CREATED:20260421T095015Z
LAST-MODIFIED:20260421T095015Z
UID:1628-1779530400-1779555600@eventiolisticimaremma.com
SUMMARY:Immersione sonora
DESCRIPTION:
URL:https://eventiolisticimaremma.com/event/immersione-sonora/
LOCATION:E Volver\, via Aurelia Antica 46\, Grosseto\, Italy
CATEGORIES:Bagno di suoni
ATTACH;FMTTYPE=image/jpeg:https://eventiolisticimaremma.com/wp-content/uploads/2026/04/WhatsApp-Image-2026-04-20-at-12.32.22.jpeg
END:VEVENT
END:VCALENDAR